BEGIN:VCALENDAR
VERSION:2.0
PRODID:-//National Tooling &amp; Machining Association - ECPv6.15.17//NONSGML v1.0//EN
CALSCALE:GREGORIAN
METHOD:PUBLISH
X-WR-CALNAME:National Tooling &amp; Machining Association
X-ORIGINAL-URL:https://ntma.org
X-WR-CALDESC:Events for National Tooling &amp; Machining Association
REFRESH-INTERVAL;VALUE=DURATION:PT1H
X-Robots-Tag:noindex
X-PUBLISHED-TTL:PT1H
BEGIN:VTIMEZONE
TZID:UTC
BEGIN:STANDARD
TZOFFSETFROM:+0000
TZOFFSETTO:+0000
TZNAME:UTC
DTSTART:20230101T000000
END:STANDARD
END:VTIMEZONE
BEGIN:VEVENT
DTSTART;VALUE=DATE:20240402
DTEND;VALUE=DATE:20240404
DTSTAMP:20260424T114442
CREATED:20240202T002742Z
LAST-MODIFIED:20240208T200947Z
UID:10000265-1712016000-1712188799@ntma.org
SUMMARY:Joint Tech Team Meeting
DESCRIPTION:Industry Peers and Professionals between NTMA\, AMT and AGMA meet to discuss new and emerging technologies. Held at ARM Institute in Pittsburgh\, PA. \nThis event is open to Team Members only – please reach out to Linda Warner – lwarner@ntma.org for more information.
URL:https://ntma.org/event/joint-tech-team-meeting-pittsburgh-pa/
LOCATION:ARM Institute\, Pittsburgh\, PA\, United States
ATTACH;FMTTYPE=image/png:https://ntma.org/wp-content/uploads/2024/02/ntma_tech_LOGO-1.png
END:VEVENT
END:VCALENDAR