BEGIN:VCALENDAR
VERSION:2.0
PRODID:-//National Tooling &amp; Machining Association - ECPv6.15.17//NONSGML v1.0//EN
CALSCALE:GREGORIAN
METHOD:PUBLISH
X-ORIGINAL-URL:https://ntma.org
X-WR-CALDESC:Events for National Tooling &amp; Machining Association
REFRESH-INTERVAL;VALUE=DURATION:PT1H
X-Robots-Tag:noindex
X-PUBLISHED-TTL:PT1H
BEGIN:VTIMEZONE
TZID:America/New_York
BEGIN:DAYLIGHT
TZOFFSETFROM:-0500
TZOFFSETTO:-0400
TZNAME:EDT
DTSTART:20220313T070000
END:DAYLIGHT
BEGIN:STANDARD
TZOFFSETFROM:-0400
TZOFFSETTO:-0500
TZNAME:EST
DTSTART:20221106T060000
END:STANDARD
BEGIN:DAYLIGHT
TZOFFSETFROM:-0500
TZOFFSETTO:-0400
TZNAME:EDT
DTSTART:20230312T070000
END:DAYLIGHT
BEGIN:STANDARD
TZOFFSETFROM:-0400
TZOFFSETTO:-0500
TZNAME:EST
DTSTART:20231105T060000
END:STANDARD
BEGIN:DAYLIGHT
TZOFFSETFROM:-0500
TZOFFSETTO:-0400
TZNAME:EDT
DTSTART:20240310T070000
END:DAYLIGHT
BEGIN:STANDARD
TZOFFSETFROM:-0400
TZOFFSETTO:-0500
TZNAME:EST
DTSTART:20241103T060000
END:STANDARD
BEGIN:DAYLIGHT
TZOFFSETFROM:-0500
TZOFFSETTO:-0400
TZNAME:EDT
DTSTART:20250309T070000
END:DAYLIGHT
BEGIN:STANDARD
TZOFFSETFROM:-0400
TZOFFSETTO:-0500
TZNAME:EST
DTSTART:20251102T060000
END:STANDARD
BEGIN:DAYLIGHT
TZOFFSETFROM:-0500
TZOFFSETTO:-0400
TZNAME:EDT
DTSTART:20260308T070000
END:DAYLIGHT
BEGIN:STANDARD
TZOFFSETFROM:-0400
TZOFFSETTO:-0500
TZNAME:EST
DTSTART:20261101T060000
END:STANDARD
BEGIN:DAYLIGHT
TZOFFSETFROM:-0500
TZOFFSETTO:-0400
TZNAME:EDT
DTSTART:20270314T070000
END:DAYLIGHT
BEGIN:STANDARD
TZOFFSETFROM:-0400
TZOFFSETTO:-0500
TZNAME:EST
DTSTART:20271107T060000
END:STANDARD
END:VTIMEZONE
BEGIN:VEVENT
DTSTART;TZID=America/New_York:20230525T140000
DTEND;TZID=America/New_York:20230525T170000
DTSTAMP:20260421T151228
CREATED:20241203T173455Z
LAST-MODIFIED:20250429T184118Z
UID:10000272-1685023200-1685034000@ntma.org
SUMMARY:Digital Twins and the Impact on Small and Medium Manufacturers
DESCRIPTION:Join Dr. Michael Grieves as he discusses how Digital Twins (DTs) are impacting engineering and manufacturing in a dramatic way by moving work from the physical world into the virtual world. Product companies are moving from physical plans\, 2D build-to-print blueprints\, physical prototypes\, paper quality control documents accompanying shipments to 3D build to digital models\, digital mock-up units (DMUs)\, and data-based DT Instances transmitted on a continuous basis. This will require both technology and culture changes. SMMs will need to adopt DT capabilities or perish. \nRegister Here
URL:https://ntma.org/event/digital-twins-and-the-impact-on-small-and-medium-manufacturers-2/
CATEGORIES:Archived Webinars,Webinars
ATTACH;FMTTYPE=image/jpeg:https://ntma.org/wp-content/uploads/2025/04/NTMA-Webinar-Logo-01-2.jpg
END:VEVENT
BEGIN:VEVENT
DTSTART;TZID=America/New_York:20260319T133000
DTEND;TZID=America/New_York:20260319T140000
DTSTAMP:20260421T151228
CREATED:20260212T141109Z
LAST-MODIFIED:20260212T141109Z
UID:10000317-1773927000-1773928800@ntma.org
SUMMARY:How Can Telematics Help Your Drivers Improve? ( A Complimentary Webinar )
DESCRIPTION:Join our upcoming webinar to explore how telematics technology can support your fleet’s safety and efficiency goals. This session offers insights into the tools available to monitor and understand driver behavior\, such as Lytx in-cab video and Federated DriveSAFESM telematics\, to help manage your fleet more effectively. \nDiscover how modern telematics systems operate and the data they can provide to business owners and fleet managers. These tools can help your drivers improve operational awareness and reinforce safer habits. \nWHAT YOU WILL LEARN \n➤ An overview of in-cab video and telematics solutions for risk management.\n➤ How machine vision and AI can detect and flag risky driving behaviors.\n➤ Using GPS tracking and video access to monitor fleet operations.\n➤ The role of coaching workflows and performance analytics in promoting safer driving habits \n  \nWHO SHOULD ATTEND\n1. Business Owners / Operators\n2. Risk Managers\n3. Operations Managers\n4. HR Professionals
URL:https://ntma.org/event/how-can-telematics-help-your-drivers-improve-a-complimentary-webinar-2/
CATEGORIES:Partner Events,Webinars
ATTACH;FMTTYPE=image/png:https://ntma.org/wp-content/uploads/2025/10/Federated-Insurance-Logo.png
ORGANIZER;CN="Federated Insurance":MAILTO:jewest@fedins.com
END:VEVENT
END:VCALENDAR